BEGIN:VCALENDAR
VERSION:2.0
PRODID:-//Delta Association of Realtors - ECPv6.15.20//NONSGML v1.0//EN
CALSCALE:GREGORIAN
METHOD:PUBLISH
X-WR-CALNAME:Delta Association of Realtors
X-ORIGINAL-URL:https://www.deltaaor.com
X-WR-CALDESC:Events for Delta Association of Realtors
REFRESH-INTERVAL;VALUE=DURATION:PT1H
X-Robots-Tag:noindex
X-PUBLISHED-TTL:PT1H
BEGIN:VTIMEZONE
TZID:America/Los_Angeles
BEGIN:DAYLIGHT
TZOFFSETFROM:-0800
TZOFFSETTO:-0700
TZNAME:PDT
DTSTART:20230312T100000
END:DAYLIGHT
BEGIN:STANDARD
TZOFFSETFROM:-0700
TZOFFSETTO:-0800
TZNAME:PST
DTSTART:20231105T090000
END:STANDARD
BEGIN:DAYLIGHT
TZOFFSETFROM:-0800
TZOFFSETTO:-0700
TZNAME:PDT
DTSTART:20240310T100000
END:DAYLIGHT
BEGIN:STANDARD
TZOFFSETFROM:-0700
TZOFFSETTO:-0800
TZNAME:PST
DTSTART:20241103T090000
END:STANDARD
BEGIN:DAYLIGHT
TZOFFSETFROM:-0800
TZOFFSETTO:-0700
TZNAME:PDT
DTSTART:20250309T100000
END:DAYLIGHT
BEGIN:STANDARD
TZOFFSETFROM:-0700
TZOFFSETTO:-0800
TZNAME:PST
DTSTART:20251102T090000
END:STANDARD
END:VTIMEZONE
BEGIN:VEVENT
DTSTART;TZID=America/Los_Angeles:20240302T170000
DTEND;TZID=America/Los_Angeles:20240302T200000
DTSTAMP:20260423T030253
CREATED:20240202T014940Z
LAST-MODIFIED:20240202T014940Z
UID:4396-1709398800-1709409600@www.deltaaor.com
SUMMARY:DRCSF Save the Date Poker Tourn
DESCRIPTION:More info to follow.
URL:https://www.deltaaor.com/event/drcsf-save-the-date-poker-tourn/
LOCATION:Delta Association of Realtors®\, 3428 Hillcrest Avenue Suite 200\, Antioch\, CA\, 94531\, United States
END:VEVENT
BEGIN:VEVENT
DTSTART;TZID=America/Los_Angeles:20240305T070000
DTEND;TZID=America/Los_Angeles:20240305T200000
DTSTAMP:20260423T030253
CREATED:20240202T014822Z
LAST-MODIFIED:20240202T014822Z
UID:4394-1709622000-1709668800@www.deltaaor.com
SUMMARY:County Elections Voting at Delta Assoc.
DESCRIPTION:Contra Costa County Elections polling place at Delta Association of REALTORS Conference Center. For more voting info or poll locations: https://www.sos.ca.gov/elections/polling-place
URL:https://www.deltaaor.com/event/county-elections-voting-at-delta-assoc/
END:VEVENT
BEGIN:VEVENT
DTSTART;TZID=America/Los_Angeles:20240308T083000
DTEND;TZID=America/Los_Angeles:20240308T100000
DTSTAMP:20260423T030253
CREATED:20240124T021633Z
LAST-MODIFIED:20240124T021633Z
UID:4238-1709886600-1709892000@www.deltaaor.com
SUMMARY:LGR (Local Government Relations) & Political Affairs Committee Meeting
DESCRIPTION:The Local Government Relations and Political Affairs Committee monitors local city and county actions that affect the real estate business\, attempt to establish lines of communication with elected officials\, and makes recommendations for campaign support to our political action Committee (BORPAC). They also make recommendations and assist in educating the membership on the importance of local\, state\, and national political involvement and in Voluntary Political Survival contributions. \nMeets every 2nd Friday of the month at 8:30 am via Zoom. \nCommittee Chairperson: Scott MacIntyre with Compass. To join a committee\, please contact 2024 Delta Association of REALTORS President\, Laura Agdanowski with Keller Williams at 925-759-1592 or LauraAgent4u@gmail.com .
URL:https://www.deltaaor.com/event/lgr-local-government-relations-political-affairs-committee-meeting-12/
END:VEVENT
BEGIN:VEVENT
DTSTART;TZID=America/Los_Angeles:20240311T090000
DTEND;TZID=America/Los_Angeles:20240311T100000
DTSTAMP:20260423T030253
CREATED:20240130T210445Z
LAST-MODIFIED:20240130T210639Z
UID:4290-1710147600-1710151200@www.deltaaor.com
SUMMARY:Delta YPN Committee Meeting
DESCRIPTION:New members now being accepted. Contact Committee Chair\, Rachel Barrios at 408-832-6507 or RachelBarrios@KW.com\n\n\n\n\n\nDelta YPN Committee meets monthly every 2nd Monday at 9 am. \nYoung Professionals Network (YPN)\nDelta helps emerging real estate professionals excel in their careers by giving them the tools and encouragement to become involved in four core areas: \n\n\nREALTOR® Associations. Attend REALTOR® conferences and pursue leadership roles with local\, state\, and national association.\nReal estate industry. Take an active role in policy discussions and advocacy issues; be informed about the latest industry news and trends.\nConnections. Network and learn from one another by attending events\, participating in online communication\, and seeking mentoring opportunities.\nCommunity. Become exceptional members of the community by demonstrating a high level of REALTOR® professionalism and volunteering for causes they feel passionate about.
URL:https://www.deltaaor.com/event/delta-ypn-committee-meeting-13/
LOCATION:Delta Association of Realtors®\, 3428 Hillcrest Avenue Suite 200\, Antioch\, CA\, 94531\, United States
END:VEVENT
BEGIN:VEVENT
DTSTART;TZID=America/Los_Angeles:20240312T170000
DTEND;TZID=America/Los_Angeles:20240312T200000
DTSTAMP:20260423T030253
CREATED:20240202T015510Z
LAST-MODIFIED:20240226T203836Z
UID:4398-1710262800-1710273600@www.deltaaor.com
SUMMARY:CHARITY EVENT: Bunco Tournament Benefitting the Delta Housing Affordability Fund (HAF)
DESCRIPTION:A fun Bunco fundraiser open to the community! All proceeds will benefit the Delta Housing Affordability Fund; a closing cost assistance grant to first time home buyers in Contra Costa & San Joaquin Counties. Cost is $25 to join. Scan QR code to pay & register. \nRaffle prize donations accepted. Please contact event coordinator Lisa Goins with Supreme Lending\, East County at 925-550-1239.
URL:https://www.deltaaor.com/event/event-delta-housing-affordability-fund-haf-fundraiser/
LOCATION:Brentwood Community Center\, 35 Oak st.\, Brentwood\, CA\, 94531\, United States
END:VEVENT
BEGIN:VEVENT
DTSTART;TZID=America/Los_Angeles:20240314T113000
DTEND;TZID=America/Los_Angeles:20240314T123000
DTSTAMP:20260423T030253
CREATED:20240124T005447Z
LAST-MODIFIED:20240124T015327Z
UID:4185-1710415800-1710419400@www.deltaaor.com
SUMMARY:Education Committee Meeting
DESCRIPTION:Meets every 2nd Thursday of the month at 11:30 am via Zoom. \nEducation\nThe Education Committee identifies member needs and desires in the area of real estate education\, establishes goals for delivering education programs to the membership\, assists in seeking course material or instructors to meet the goal. Included in the committee’s charge is to identify opportunities to keep our members aware of issues\, relating to fair housing\, equal opportunity and cultural diversity. \nCommittee Chairperson: Virginia Viera Mitchell with Warren Properties at Virginia@BuySellRent925.com or 925-325-2170. To join a committee\, please contact 2024 Delta Association of REALTORS President\, Laura Agdanowski with Keller Williams at 925-759-1592 or LauraAgent4u@gmail.com .
URL:https://www.deltaaor.com/event/education-committee-meeting-23/
END:VEVENT
BEGIN:VEVENT
DTSTART;TZID=America/Los_Angeles:20240314T123000
DTEND;TZID=America/Los_Angeles:20240314T133000
DTSTAMP:20260423T030253
CREATED:20240124T015441Z
LAST-MODIFIED:20240124T015441Z
UID:4209-1710419400-1710423000@www.deltaaor.com
SUMMARY:Membership Committee Meeting
DESCRIPTION:Meets every 2nd Thursday via Zoom at 12:30 pm. \nEvaluates the Association’s new member orientation program\, provides input into the content and delivery of orientation\, and participates in the orientation program where appropriate. Looks for opportunities to establish and maintain relationships between REALTOR®-members\, affiliate-members\, and the community. Makes recommendations to the Board of Directors on membership and member services issues. \nMembership Committee meets monthly and oversees Delta Association Affiliate Council. \nCommittee Chairperson: Jody Drewry with Drewry Real Estate at Roa.Jody@gmail.com or 925-818-1977. To join a committee\, please contact 2024 Delta Association of REALTORS President\, Laura Agdanowski with Keller Williams at 925-759-1592 or LauraAgent4u@gmail.com  .
URL:https://www.deltaaor.com/event/membership-committee-meeting-22/
END:VEVENT
BEGIN:VEVENT
DTSTART;TZID=America/Los_Angeles:20240318T090000
DTEND;TZID=America/Los_Angeles:20240318T100000
DTSTAMP:20260423T030253
CREATED:20240130T231242Z
LAST-MODIFIED:20240130T231242Z
UID:4322-1710752400-1710756000@www.deltaaor.com
SUMMARY:Delta REALTORS® Community Service Foundation (DRCSF) Committee Meeting
DESCRIPTION:Committee meets on the 3rd Monday of the month at 9 am via Zoom. Meeting may change throughout year due to holiday(s).\n\n\n\n\n\nOur tax exempt charitable corporation administers our community service program. The Board of Directors governs the corporation and directs its charitable activities but every member is invited to participate in the community service programs and fund raising events programs\, with grants available to issues that concentrate on assisting local youth and underrepresented individuals in our local area. Serves to establish and maintain the REALTOR® image as “good neighbors”\, where we live and work. \nCommittee President: Keisha Zogg\, Corcoran Global Living. To join a committee\, please contact 2024 Delta Association of REALTORS President\, Laura Agdanowski at 925-759-1592 or LauraAgent4u@gmail.com .
URL:https://www.deltaaor.com/event/delta-realtors-community-service-foundation-drcsf-committee-meeting-15/
END:VEVENT
BEGIN:VEVENT
DTSTART;TZID=America/Los_Angeles:20240319T123000
DTEND;TZID=America/Los_Angeles:20240319T133000
DTSTAMP:20260423T030253
CREATED:20240130T233124Z
LAST-MODIFIED:20240130T233124Z
UID:4342-1710851400-1710855000@www.deltaaor.com
SUMMARY:Budget & Finance Committee Meeting
DESCRIPTION:Meets every 3rd Tuesday of the month at 12:30 pm via Zoom.\n\n\n\n\n\nBudget & Finance\nThe Budget and Finance committee monitors Association finances\, fiscal policies\, annually recommends a budget to the Board of Directors that includes operational income and expenses as well as member service programs to be funded; provides guidance to the Board of Directors on non-budgeted items. \nCommittee Chairperson: James Britto\, 2024 Delta Association Treasurer. To join committee\, please contact 2024 Delta Association of REALTORS President\, Laura Agdanowski with Keller Williams at 925-759-1592 or LauraAgent4u@gmail.com .
URL:https://www.deltaaor.com/event/budget-finance-committee-meeting-32/
END:VEVENT
BEGIN:VEVENT
DTSTART;TZID=America/Los_Angeles:20240328T140000
DTEND;TZID=America/Los_Angeles:20240328T153000
DTSTAMP:20260423T030253
CREATED:20240130T234254Z
LAST-MODIFIED:20240130T234614Z
UID:4362-1711634400-1711639800@www.deltaaor.com
SUMMARY:Board of Directors Meeting
DESCRIPTION:Board of Directors meet every 4th Thurs. of the month via Zoom at 2 pm. Date may change due to holiday(s).\n\n\n\n\n\nThe Board of Directors is an elected body of governance responsible for the overall operation of the Association\, including compliance with NAR and C.A.R. mandates\, enforcement of the NAR Code of Ethics\, preservation of association assets\, Bylaws compliance\, setting local policy and actions consistent with the Association Mission Statement.
URL:https://www.deltaaor.com/event/board-of-directors-meeting-23/
END:VEVENT
BEGIN:VEVENT
DTSTART;TZID=America/Los_Angeles:20240329T080000
DTEND;TZID=America/Los_Angeles:20240329T170000
DTSTAMP:20260423T030253
CREATED:20240202T014427Z
LAST-MODIFIED:20240202T014427Z
UID:4392-1711699200-1711731600@www.deltaaor.com
SUMMARY:CLOSED in Observance of Good Friday
DESCRIPTION:
URL:https://www.deltaaor.com/event/closed-in-observance-of-good-friday/
END:VEVENT
END:VCALENDAR