BEGIN:VCALENDAR
VERSION:2.0
PRODID:-//Delta Association of Realtors - ECPv6.15.20//NONSGML v1.0//EN
CALSCALE:GREGORIAN
METHOD:PUBLISH
X-WR-CALNAME:Delta Association of Realtors
X-ORIGINAL-URL:https://www.deltaaor.com
X-WR-CALDESC:Events for Delta Association of Realtors
REFRESH-INTERVAL;VALUE=DURATION:PT1H
X-Robots-Tag:noindex
X-PUBLISHED-TTL:PT1H
BEGIN:VTIMEZONE
TZID:America/Los_Angeles
BEGIN:DAYLIGHT
TZOFFSETFROM:-0800
TZOFFSETTO:-0700
TZNAME:PDT
DTSTART:20230312T100000
END:DAYLIGHT
BEGIN:STANDARD
TZOFFSETFROM:-0700
TZOFFSETTO:-0800
TZNAME:PST
DTSTART:20231105T090000
END:STANDARD
BEGIN:DAYLIGHT
TZOFFSETFROM:-0800
TZOFFSETTO:-0700
TZNAME:PDT
DTSTART:20240310T100000
END:DAYLIGHT
BEGIN:STANDARD
TZOFFSETFROM:-0700
TZOFFSETTO:-0800
TZNAME:PST
DTSTART:20241103T090000
END:STANDARD
BEGIN:DAYLIGHT
TZOFFSETFROM:-0800
TZOFFSETTO:-0700
TZNAME:PDT
DTSTART:20250309T100000
END:DAYLIGHT
BEGIN:STANDARD
TZOFFSETFROM:-0700
TZOFFSETTO:-0800
TZNAME:PST
DTSTART:20251102T090000
END:STANDARD
END:VTIMEZONE
BEGIN:VEVENT
DTSTART;TZID=America/Los_Angeles:20240108T090000
DTEND;TZID=America/Los_Angeles:20240108T100000
DTSTAMP:20260423T055055
CREATED:20230124T052734Z
LAST-MODIFIED:20240130T210543Z
UID:3705-1704704400-1704708000@www.deltaaor.com
SUMMARY:Delta YPN Committee Meeting
DESCRIPTION:New members now being accepted. Contact Committee Chair\, Rachel Barrios at 408-832-6507 or RachelBarrios@KW.com \nDelta YPN Committee meets monthly every 2nd Monday at 9 am. \nYoung Professionals Network (YPN)\nDelta helps emerging real estate professionals excel in their careers by giving them the tools and encouragement to become involved in four core areas: \n\n\nREALTOR® Associations. Attend REALTOR® conferences and pursue leadership roles with local\, state\, and national association.\nReal estate industry. Take an active role in policy discussions and advocacy issues; be informed about the latest industry news and trends.\nConnections. Network and learn from one another by attending events\, participating in online communication\, and seeking mentoring opportunities.\nCommunity. Become exceptional members of the community by demonstrating a high level of REALTOR® professionalism and volunteering for causes they feel passionate about.
URL:https://www.deltaaor.com/event/delta-ypn-committee-meeting-11/
LOCATION:Delta Association of Realtors®\, 3428 Hillcrest Avenue Suite 200\, Antioch\, CA\, 94531\, United States
END:VEVENT
BEGIN:VEVENT
DTSTART;VALUE=DATE:20240115
DTEND;VALUE=DATE:20240116
DTSTAMP:20260423T055055
CREATED:20230119T064451Z
LAST-MODIFIED:20231208T002159Z
UID:3558-1705276800-1705363199@www.deltaaor.com
SUMMARY:CLOSED in Observance of Dr. Martin Luther King\, Jr. Day
DESCRIPTION:Martin Luther King\, Jr.\, Day\, in the United States\, holiday (third Monday in January) honouring the achievements of Martin Luther King\, Jr. A Baptist minister who advocated the use of nonviolent means to end racial segregation\, he first came to national prominence during a bus boycott by African Americans in Montgomery\, Alabama\, in 1955. He founded the Southern Christian Leadership Conference in 1957 and led the 1963 March on Washington. The most influential of African American civil rights leaders during the 1960s\, he was instrumental in the passage of the Civil Rights Act of 1964\, which outlawed discrimination in public accommodations\, facilities\, and employment\, and the Voting Rights Act of 1965. King was awarded the Nobel Prize for Peace in 1964. He was assassinated on April 4\, 1968. \n\n\n\n\nMartin Luther King\, Jr.\, Day: parade\n\n\n  \nAlmost immediately after King’s death\, there were calls for a national holiday in his honour. Beginning in 1970\, a number of states and cities made his birthday\, January 15\, a holiday. Although legislation for a federal holiday was introduced in Congress as early as 1968\, there was sufficient opposition\, on racial and political grounds\, to block its passage. In 1983 legislation making the third Monday in January a federal holiday finally was passed\, and the first observance nationwide was in 1986. The day is usually celebrated with marches and parades and with speeches by civil rights and political leaders. \nProvided by Britannica.com .
URL:https://www.deltaaor.com/event/closed-in-observance-of-dr-martin-luther-king-jr-day/
END:VEVENT
BEGIN:VEVENT
DTSTART;TZID=America/Los_Angeles:20240116T090000
DTEND;TZID=America/Los_Angeles:20240116T100000
DTSTAMP:20260423T055055
CREATED:20230124T003230Z
LAST-MODIFIED:20240130T230715Z
UID:3638-1705395600-1705399200@www.deltaaor.com
SUMMARY:Delta REALTORS® Community Service Foundation (DRCSF) Committee Meeting
DESCRIPTION:Committee meets on the 3rd Monday of the month at 9 am via Zoom. Meeting may change throughout year due to holiday(s). \nOur tax exempt charitable corporation administers our community service program. The Board of Directors governs the corporation and directs its charitable activities but every member is invited to participate in the community service programs and fund raising events programs\, with grants available to issues that concentrate on assisting local youth and underrepresented individuals in our local area. Serves to establish and maintain the REALTOR® image as “good neighbors”\, where we live and work. \nCommittee President: Keisha Zogg\, Corcoran Global Living. To join a committee\, please contact 2024 Delta Association of REALTORS President\, Laura Agdanowski at 925-759-1592 or LauraAgent4u@gmail.com .
URL:https://www.deltaaor.com/event/delta-realtors-community-service-foundation-drcsf-committee-meeting-4/
END:VEVENT
BEGIN:VEVENT
DTSTART;TZID=America/Los_Angeles:20240119T083000
DTEND;TZID=America/Los_Angeles:20240119T093000
DTSTAMP:20260423T055055
CREATED:20230123T221958Z
LAST-MODIFIED:20240124T021250Z
UID:3631-1705653000-1705656600@www.deltaaor.com
SUMMARY:LGR (Local Government Relations) & Political Affairs Committee Meeting
DESCRIPTION:The Local Government Relations and Political Affairs Committee monitors local city and county actions that affect the real estate business\, attempt to establish lines of communication with elected officials\, and makes recommendations for campaign support to our political action Committee (BORPAC). They also make recommendations and assist in educating the membership on the importance of local\, state\, and national political involvement and in Voluntary Political Survival contributions. \nMeets every 2nd Friday of the month at 8:30 am via Zoom. \nCommittee Chairperson: Scott MacIntyre with Compass. To join a committee\, please contact 2024 Delta Association of REALTORS President\, Laura Agdanowski with Keller Williams at 925-759-1592 or LauraAgent4u@gmail.com .
URL:https://www.deltaaor.com/event/lgr-local-government-relations-political-affairs-committee-meeting-10/
END:VEVENT
BEGIN:VEVENT
DTSTART;TZID=America/Los_Angeles:20240123T123000
DTEND;TZID=America/Los_Angeles:20240123T133000
DTSTAMP:20260423T055055
CREATED:20230321T020552Z
LAST-MODIFIED:20240124T023653Z
UID:3886-1706013000-1706016600@www.deltaaor.com
SUMMARY:Budget & Finance Committee Meeting
DESCRIPTION:Meets every 3rd Tuesday of the month at 12 pm via Zoom. \nBudget & Finance\nThe Budget and Finance committee monitors Association finances\, fiscal policies\, annually recommends a budget to the Board of Directors that includes operational income and expenses as well as member service programs to be funded; provides guidance to the Board of Directors on non-budgeted items. \nCommittee Chairperson: James Britto\, 2024 Delta Association Treasurer. To join committee\, please contact 2024 Delta Association of REALTORS President\, Laura Agdanowski with Keller Williams at 925-759-1592 or LauraAgent4u@gmail.com .
URL:https://www.deltaaor.com/event/budget-finance-committee-meeting-19/
END:VEVENT
BEGIN:VEVENT
DTSTART;TZID=America/Los_Angeles:20240125T140000
DTEND;TZID=America/Los_Angeles:20240125T153000
DTSTAMP:20260423T055055
CREATED:20230124T071523Z
LAST-MODIFIED:20240130T234538Z
UID:3749-1706191200-1706196600@www.deltaaor.com
SUMMARY:Board of Directors Meeting IN-PERSON
DESCRIPTION:Board of Directors meet every 4th Thurs. of the month via Zoom at 2 pm. Date may change due to holiday(s). \nThe Board of Directors is an elected body of governance responsible for the overall operation of the Association\, including compliance with NAR and C.A.R. mandates\, enforcement of the NAR Code of Ethics\, preservation of association assets\, Bylaws compliance\, setting local policy and actions consistent with the Association Mission Statement.
URL:https://www.deltaaor.com/event/board-of-directors-meeting-22/
END:VEVENT
END:VCALENDAR