BEGIN:VCALENDAR
VERSION:2.0
PRODID:-//Delta Association of Realtors - ECPv6.15.20//NONSGML v1.0//EN
CALSCALE:GREGORIAN
METHOD:PUBLISH
X-ORIGINAL-URL:https://www.deltaaor.com
X-WR-CALDESC:Events for Delta Association of Realtors
REFRESH-INTERVAL;VALUE=DURATION:PT1H
X-Robots-Tag:noindex
X-PUBLISHED-TTL:PT1H
BEGIN:VTIMEZONE
TZID:America/Los_Angeles
BEGIN:DAYLIGHT
TZOFFSETFROM:-0800
TZOFFSETTO:-0700
TZNAME:PDT
DTSTART:20250309T100000
END:DAYLIGHT
BEGIN:STANDARD
TZOFFSETFROM:-0700
TZOFFSETTO:-0800
TZNAME:PST
DTSTART:20251102T090000
END:STANDARD
BEGIN:DAYLIGHT
TZOFFSETFROM:-0800
TZOFFSETTO:-0700
TZNAME:PDT
DTSTART:20260308T100000
END:DAYLIGHT
BEGIN:STANDARD
TZOFFSETFROM:-0700
TZOFFSETTO:-0800
TZNAME:PST
DTSTART:20261101T090000
END:STANDARD
BEGIN:DAYLIGHT
TZOFFSETFROM:-0800
TZOFFSETTO:-0700
TZNAME:PDT
DTSTART:20270314T100000
END:DAYLIGHT
BEGIN:STANDARD
TZOFFSETFROM:-0700
TZOFFSETTO:-0800
TZNAME:PST
DTSTART:20271107T090000
END:STANDARD
END:VTIMEZONE
BEGIN:VEVENT
DTSTART;TZID=America/Los_Angeles:20261019T080000
DTEND;TZID=America/Los_Angeles:20261020T170000
DTSTAMP:20260419T095900
CREATED:20260324T155112Z
LAST-MODIFIED:20260324T155235Z
UID:5999-1792396800-1792515600@www.deltaaor.com
SUMMARY:C.A.R. AE/GAD Summit Meetings
DESCRIPTION:
URL:https://www.deltaaor.com/event/ae-gad-summit-meetings-2/
END:VEVENT
BEGIN:VEVENT
DTSTART;TZID=America/Los_Angeles:20261019T090000
DTEND;TZID=America/Los_Angeles:20261019T100000
DTSTAMP:20260419T095900
CREATED:20251121T003518Z
LAST-MODIFIED:20251121T004054Z
UID:5472-1792400400-1792404000@www.deltaaor.com
SUMMARY:Delta REALTOR Community Service Foundation (DRCSF) Committee Meeting
DESCRIPTION:Committee meets on the 3rd Monday of the month at 9 am in person at Delta AOR Conference Center. Meeting may change throughout year due to holiday(s).\n\n\n\n\n\n\n\n\n\n\n\n\n\n\n\n\n\n\n\n\n\n\n\n\n\n\n\n\n\n\n\nOur tax exempt charitable corporation administers our community service program. The Board of Directors governs the corporation and directs its charitable activities but every member is invited to participate in the community service programs and fund raising events programs\, with grants available to issues that concentrate on assisting local youth and underrepresented individuals in our local area. Serves to establish and maintain the REALTOR® image as “good neighbors”\, where we live and work.
URL:https://www.deltaaor.com/event/delta-realtor-community-service-foundation-drcsf-committee-meeting-15/
END:VEVENT
END:VCALENDAR