BEGIN:VCALENDAR
VERSION:2.0
PRODID:-//Delta Association of Realtors - ECPv6.15.20//NONSGML v1.0//EN
CALSCALE:GREGORIAN
METHOD:PUBLISH
X-WR-CALNAME:Delta Association of Realtors
X-ORIGINAL-URL:https://www.deltaaor.com
X-WR-CALDESC:Events for Delta Association of Realtors
REFRESH-INTERVAL;VALUE=DURATION:PT1H
X-Robots-Tag:noindex
X-PUBLISHED-TTL:PT1H
BEGIN:VTIMEZONE
TZID:America/Los_Angeles
BEGIN:DAYLIGHT
TZOFFSETFROM:-0800
TZOFFSETTO:-0700
TZNAME:PDT
DTSTART:20250309T100000
END:DAYLIGHT
BEGIN:STANDARD
TZOFFSETFROM:-0700
TZOFFSETTO:-0800
TZNAME:PST
DTSTART:20251102T090000
END:STANDARD
BEGIN:DAYLIGHT
TZOFFSETFROM:-0800
TZOFFSETTO:-0700
TZNAME:PDT
DTSTART:20260308T100000
END:DAYLIGHT
BEGIN:STANDARD
TZOFFSETFROM:-0700
TZOFFSETTO:-0800
TZNAME:PST
DTSTART:20261101T090000
END:STANDARD
BEGIN:DAYLIGHT
TZOFFSETFROM:-0800
TZOFFSETTO:-0700
TZNAME:PDT
DTSTART:20270314T100000
END:DAYLIGHT
BEGIN:STANDARD
TZOFFSETFROM:-0700
TZOFFSETTO:-0800
TZNAME:PST
DTSTART:20271107T090000
END:STANDARD
END:VTIMEZONE
BEGIN:VEVENT
DTSTART;TZID=America/Los_Angeles:20261012T090000
DTEND;TZID=America/Los_Angeles:20261012T100000
DTSTAMP:20260419T095606
CREATED:20260101T081643Z
LAST-MODIFIED:20260101T081648Z
UID:5603-1791795600-1791799200@www.deltaaor.com
SUMMARY:YPN Committee Meeting
DESCRIPTION:
URL:https://www.deltaaor.com/event/ypn-committee-meeting-7/
END:VEVENT
BEGIN:VEVENT
DTSTART;TZID=America/Los_Angeles:20261012T113000
DTEND;TZID=America/Los_Angeles:20261012T123000
DTSTAMP:20260419T095606
CREATED:20260101T082312Z
LAST-MODIFIED:20260101T082317Z
UID:5605-1791804600-1791808200@www.deltaaor.com
SUMMARY:WCR Committee Meeting
DESCRIPTION:
URL:https://www.deltaaor.com/event/wcr-committee-meeting-3/
END:VEVENT
END:VCALENDAR