BEGIN:VCALENDAR
VERSION:2.0
PRODID:-//Delta Association of Realtors - ECPv6.15.20//NONSGML v1.0//EN
CALSCALE:GREGORIAN
METHOD:PUBLISH
X-ORIGINAL-URL:https://www.deltaaor.com
X-WR-CALDESC:Events for Delta Association of Realtors
REFRESH-INTERVAL;VALUE=DURATION:PT1H
X-Robots-Tag:noindex
X-PUBLISHED-TTL:PT1H
BEGIN:VTIMEZONE
TZID:America/Los_Angeles
BEGIN:DAYLIGHT
TZOFFSETFROM:-0800
TZOFFSETTO:-0700
TZNAME:PDT
DTSTART:20240310T100000
END:DAYLIGHT
BEGIN:STANDARD
TZOFFSETFROM:-0700
TZOFFSETTO:-0800
TZNAME:PST
DTSTART:20241103T090000
END:STANDARD
BEGIN:DAYLIGHT
TZOFFSETFROM:-0800
TZOFFSETTO:-0700
TZNAME:PDT
DTSTART:20250309T100000
END:DAYLIGHT
BEGIN:STANDARD
TZOFFSETFROM:-0700
TZOFFSETTO:-0800
TZNAME:PST
DTSTART:20251102T090000
END:STANDARD
BEGIN:DAYLIGHT
TZOFFSETFROM:-0800
TZOFFSETTO:-0700
TZNAME:PDT
DTSTART:20260308T100000
END:DAYLIGHT
BEGIN:STANDARD
TZOFFSETFROM:-0700
TZOFFSETTO:-0800
TZNAME:PST
DTSTART:20261101T090000
END:STANDARD
END:VTIMEZONE
BEGIN:VEVENT
DTSTART;TZID=America/Los_Angeles:20250421T090000
DTEND;TZID=America/Los_Angeles:20250421T103000
DTSTAMP:20260422T085209
CREATED:20250122T220653Z
LAST-MODIFIED:20250122T231259Z
UID:5066-1745226000-1745231400@www.deltaaor.com
SUMMARY:Delta REALTORS® Community Service Foundation (DRCSF) Committee Meeting
DESCRIPTION:Committee meets on the 3rd Monday of the month at 9 am in person at Delta AOR Conference Center. Meeting may change throughout year due to holiday(s).\n\n\n\n\n\n\n\n\n\n\n\n\n\n\n\n\n\nOur tax exempt charitable corporation administers our community service program. The Board of Directors governs the corporation and directs its charitable activities but every member is invited to participate in the community service programs and fund raising events programs\, with grants available to issues that concentrate on assisting local youth and underrepresented individuals in our local area. Serves to establish and maintain the REALTOR® image as “good neighbors”\, where we live and work. \nDRCSF President: Patti Shaner at CMG Home Loans 925-584-1614 or PShaner@CMGhomeloans.com . To join a committee\, please contact 2025 Delta Association of REALTORS President\, Virginia Viera Mitchell at 925-325-2170 or Virginia@BuySellRent925.com .
URL:https://www.deltaaor.com/event/delta-realtors-community-service-foundation-drcsf-committee-meeting-27/
LOCATION:Delta Association of Realtors®\, 3428 Hillcrest Avenue Suite 200\, Antioch\, CA\, 94531\, United States
END:VEVENT
END:VCALENDAR