BEGIN:VCALENDAR
VERSION:2.0
PRODID:-//Delta Association of Realtors - ECPv6.15.20//NONSGML v1.0//EN
CALSCALE:GREGORIAN
METHOD:PUBLISH
X-ORIGINAL-URL:https://www.deltaaor.com
X-WR-CALDESC:Events for Delta Association of Realtors
REFRESH-INTERVAL;VALUE=DURATION:PT1H
X-Robots-Tag:noindex
X-PUBLISHED-TTL:PT1H
BEGIN:VTIMEZONE
TZID:America/Los_Angeles
BEGIN:DAYLIGHT
TZOFFSETFROM:-0800
TZOFFSETTO:-0700
TZNAME:PDT
DTSTART:20210314T100000
END:DAYLIGHT
BEGIN:STANDARD
TZOFFSETFROM:-0700
TZOFFSETTO:-0800
TZNAME:PST
DTSTART:20211107T090000
END:STANDARD
BEGIN:DAYLIGHT
TZOFFSETFROM:-0800
TZOFFSETTO:-0700
TZNAME:PDT
DTSTART:20220313T100000
END:DAYLIGHT
BEGIN:STANDARD
TZOFFSETFROM:-0700
TZOFFSETTO:-0800
TZNAME:PST
DTSTART:20221106T090000
END:STANDARD
BEGIN:DAYLIGHT
TZOFFSETFROM:-0800
TZOFFSETTO:-0700
TZNAME:PDT
DTSTART:20230312T100000
END:DAYLIGHT
BEGIN:STANDARD
TZOFFSETFROM:-0700
TZOFFSETTO:-0800
TZNAME:PST
DTSTART:20231105T090000
END:STANDARD
END:VTIMEZONE
BEGIN:VEVENT
DTSTART;TZID=America/Los_Angeles:20220603T080000
DTEND;TZID=America/Los_Angeles:20220712T170000
DTSTAMP:20260424T105956
CREATED:20220603T170541Z
LAST-MODIFIED:20220603T170653Z
UID:3275-1654243200-1657645200@www.deltaaor.com
SUMMARY:Delta YPN Backpack Drive
DESCRIPTION:Delta’s Young Professionals Network (YPN) is hosting a Backpack & School Supplies Drive this summer for local students from Elementary to High School. All donations due by July 12th.\n\n\n\nNew backpacks and school supplies  can be dropped off at Delta Association of REALTORS office in Antioch or Keller Williams East County office in Brentwood. Address and contact info on flyer.\n\n\n\n#backpackdrive #deltaypn #ypn #deltarealtors #deltarealestate #youngprofessionals #antiochca #pittsburgca #brentwoodca #oakleyca #knightsen #discoverybay #byron #bethelisland #eastcontracosta #contracostacounty
URL:https://www.deltaaor.com/event/delta-ypn-backpack-drive/
END:VEVENT
BEGIN:VEVENT
DTSTART;TZID=America/Los_Angeles:20220620T090000
DTEND;TZID=America/Los_Angeles:20220620T100000
DTSTAMP:20260424T105956
CREATED:20220218T043446Z
LAST-MODIFIED:20220218T050448Z
UID:2943-1655715600-1655719200@www.deltaaor.com
SUMMARY:Delta REALTORS® Community Service Foundation (DRCSF) Committee Meeting
DESCRIPTION:Committee meets monthly on the 3rd Monday of the month at 9 am\, virtually. Meeting may change throughout year due to holiday(s). \nOur tax exempt charitable corporation administers our community service program. The Board of Directors governs the corporation and directs its charitable activities but every member is invited to participate in the community service programs and fund raising events programs\, with grants available to issues that concentrate on assisting local youth and underrepresented individuals in our local area. Serves to establish and maintain the REALTOR® image as “good neighbors”\, where we live and work. \nLink to register: https://us02web.zoom.us/meeting/register/tZItc-GurDMpG9R_E9kNpsf66Y07fb0GoKjR
URL:https://www.deltaaor.com/event/2943/
LOCATION:Zoom
END:VEVENT
END:VCALENDAR